BEGIN:VCALENDAR
VERSION:2.0
PRODID:-// - ECPv6.15.14//NONSGML v1.0//EN
CALSCALE:GREGORIAN
METHOD:PUBLISH
X-ORIGINAL-URL:https://sommerikviteseid.com
X-WR-CALDESC:Arrangement for 
REFRESH-INTERVAL;VALUE=DURATION:PT1H
X-Robots-Tag:noindex
X-PUBLISHED-TTL:PT1H
BEGIN:VTIMEZONE
TZID:UTC
BEGIN:STANDARD
TZOFFSETFROM:+0000
TZOFFSETTO:+0000
TZNAME:UTC
DTSTART:20240101T000000
END:STANDARD
END:VTIMEZONE
BEGIN:VEVENT
DTSTART;TZID=UTC:20250614T130000
DTEND;TZID=UTC:20250614T170000
DTSTAMP:20260419T152925
CREATED:20250604T181246Z
LAST-MODIFIED:20250611T103815Z
UID:10000004-1749906000-1749920400@sommerikviteseid.com
SUMMARY:Olabilløp ned Kviteseidgata
DESCRIPTION:Olabilløp ned Kviteseidgata\n\n\n\nLaurdag 14. juni\, kl.13.30.(Oppmøte kl.13.00) \n\n\n\nOlabilløpet i fjor vart ein suksess\, men vi håpar jo på endå fleire deltakarar i år. Så finn fram din indre Reodor Felgen og bli med på olabilløpet under årets Victoriafestival. \n\n\n\nFLOTTE PREMIAR – GÅVEKORT FRÅ KVITESEIDBYEN.1. plass: kr.3000\,- 2. plass kr. 1500\,- 3. plass: kr. 500\,- \n\n\n\nFor å melde deg på\, send mail til post@kviteseidbyen.no\, med navn\, alder og navn på bil.
URL:https://sommerikviteseid.com/arrangement/olabillop-ned-kviteseidgata/
ATTACH;FMTTYPE=image/jpeg:https://sommerikviteseid.com/wp-content/uploads/2025/06/Olabillop.jpg
END:VEVENT
BEGIN:VEVENT
DTSTART;VALUE=DATE:20250613
DTEND;VALUE=DATE:20250615
DTSTAMP:20260419T152925
CREATED:20250603T201754Z
LAST-MODIFIED:20250611T103730Z
UID:10000001-1749772800-1749945599@sommerikviteseid.com
SUMMARY:Victoriafestivalen
DESCRIPTION:– FESTIVALEN VED KANALEN – \nI år spelar Bråtabrann og Morgan Sulele på brygga\, laurdag frå kl. 22.00. 18år leg. plikt. Billettsalg: www.ticketmaster.no. \nFredag 13. juni \n10:00-18:00 Forretningane og bodane har ope.\n13:00-14:00 Allsang i Hansenhagen m/ Jan Haugen og Vidar Magnushommen\n15:00-17:00 Ansiktsmåling m/Sonja Bakken Braun\n16:15 Ordførar Tarjei Draugedal ønskjer velkommen\n16:30 Sommarkonsert v/ Kviteseid Kulturskule\n18:00 Kviteseid brygge – Quiz.\n20.00 Kviteseid brygge – Trubadur John Buraas \nLaurdag 14. juni \n10:00-16:00 Forretningane og bodane har ope\n11:00-13:00 Sommarfiske med KJFF\n11:00-16:00 Utstilling av veteranbilar/MC/Hobbykjøretøy i Garverivegen\n-Velkommen til å stille ut – påmelding: Tore Andersen og Magne Eikland\n11:00-13:00 Ansiktsmåling m/Sonja Bakken Braun og hårfletting/styling m/Balanzera.\n12:00 Familieteater i Bryggeparken m/ Tatoveringen/Teater Avvik.\n13:30: Olabilløp i Kviteseidgata\nPåmelding: post@kviteseidbyen.no\nOppmøte kl. 13:00 v/ Parkering Sverre Ruud\n15:00-16:15: Kviteseid brygge – Trubadur John Buraas\n16:20 M/S Victoria Kjem\n20.45-21.45: Storscena i bryggeparken – Trubadur John Buraas\n22:00- 01:30 BRYGGEFEST – Bråtabrann og Morgan Sulele\n– 18år leg.plikt. Billettsalg: www.ticketmaster.no kr. 495\,-pr stk. \nVELKOMEN til Kviteseid! \nArrangør: Kviteseid Næringslag.\nMedarrangørar:\nKviteseid JFF\, Kviteseid kulturskule\, Kviteseid frivilligssentral\, Kviteseid kommune.
URL:https://sommerikviteseid.com/arrangement/victoriafestivalen/
LOCATION:Kviteseid\, Kviteseidgata 18\, Kviteseid\, Telemark\, 3850\, Norway
ATTACH;FMTTYPE=image/jpeg:https://sommerikviteseid.com/wp-content/uploads/2025/06/Victoriafestivalen.jpg
END:VEVENT
END:VCALENDAR