BEGIN:VCALENDAR
VERSION:2.0
PRODID:-// - ECPv6.15.14//NONSGML v1.0//EN
CALSCALE:GREGORIAN
METHOD:PUBLISH
X-ORIGINAL-URL:https://sommerikviteseid.com
X-WR-CALDESC:Arrangement for 
REFRESH-INTERVAL;VALUE=DURATION:PT1H
X-Robots-Tag:noindex
X-PUBLISHED-TTL:PT1H
BEGIN:VTIMEZONE
TZID:UTC
BEGIN:STANDARD
TZOFFSETFROM:+0000
TZOFFSETTO:+0000
TZNAME:UTC
DTSTART:20240101T000000
END:STANDARD
END:VTIMEZONE
BEGIN:VEVENT
DTSTART;TZID=UTC:20250625T100000
DTEND;TZID=UTC:20250803T170000
DTSTAMP:20260420T085107
CREATED:20250604T193204Z
LAST-MODIFIED:20250604T193259Z
UID:10000015-1750845600-1754240400@sommerikviteseid.com
SUMMARY:Kulturhistoriske seilas til Nissedal og Vråliosen
DESCRIPTION:I sommer er det klart for kulturhistoriske seilas med veteranbåten M/S Fram fra Vrådal til Nissedal og Vråliosen. \n\n\n\nMed lokalkjente guider: Torgeir Nordal til Nissedal og Magne Wraa til Vråliosen. Kaptein på turene: Reidar Skogheim. Æreslos: Olav Tveitane. \n\n\n\n1 Kulturhistorisk seilas til Nissedal\n\n\n\n\n\n\n\nNår: onsdag 25. juni\, onsdag 16. juli og søndag 27. juli 2025. Historieforteller og guide: Torgeir Nordal. Avg. Straand Brygge kl. 10.30Ank/ Avg. Vik Brygge (Nordbygda) kl. 12.00Ank/ Avg. Prestegardsbrygga (Kyrkjebygda) kl. 12.30Ank/ Avg. Vik Brygge kl. 14.30Ank/ Avg. Prestegardsbrygga kl. 15.00Ank. Straand Brygge kl. 17.00Billettpris for tur/ retur Nissedal/ Vrådal kr. 395\,- pr. pers.Billettpris for rundtur i Nissedal kr. 270\,- pr. pers.Billettpris én vei til/ fra Nissedal kr. 225\,- \n\n\n\n2 Kulturhistorisk seilas til Vråliosen\n\n\n\nNår: søndag 3. august 2025 \n\n\n\nHistorieforteller og guide: Magne Wraa. Avg. Straand Brygge kl. 10.30.Ank Vråliosen kl. 13.00Avg. Vråliosen kl. 13.30Ank. Straand brygge kl. 15:30Billettpris for tur/ retur Vråliosen/ Vrådal kr. 395\,- pr. pers.Billettpris én vei til/ fra Vråliosen Kr. 225\,- pr. pers. \n\n\n\n\nKjøp billetter her!
URL:https://sommerikviteseid.com/arrangement/kulturhistoriske-seilas-til-nissedal-og-vraliosen/
LOCATION:Vrådal\, Vråliosvegen 50\, Vrådal\, Telemark\, 3850\, Norway
ATTACH;FMTTYPE=image/jpeg:https://sommerikviteseid.com/wp-content/uploads/2025/06/web_MS_Fram.jpg
ORGANIZER;CN="Straand Hotel":MAILTO:straand@straand.no
END:VEVENT
BEGIN:VEVENT
DTSTART;TZID=UTC:20250628T200000
DTEND;TZID=UTC:20250628T230000
DTSTAMP:20260420T085107
CREATED:20250604T185412Z
LAST-MODIFIED:20250620T073315Z
UID:10000009-1751140800-1751151600@sommerikviteseid.com
SUMMARY:Rune Sanden Band
DESCRIPTION:Rune Sanden Band speler på Kviteseid Brygge lørdag 28. juni. \n\n\n\nRune Sanden Band\n\n\n\nTelemarksrocken er tilbake når Rune Sanden Band inntek Kviteseid Brygge. Etter ei stille stund i hi er Telemarksrocken endeleg tilbake – og det med fullt trøkk. Rune Sanden Band er klare for å innta scenen på Kviteseid Brygge\, og det ligg an til ein kveld fylt med energi\, sterke melodiar og ekte speleglede. Bandet kickstarta comebacket med ein heidundrande kveld på ein fullsett Parkbiografen\, og no er det Kviteseid som står for tur. Med ein særs produktiv låtskrivar i front – som mange vil kjenne att frå solide soloeventyr – og eit band fullt av speleglade musikarar\, er forventningane høge. Rune Sanden Band har gjort seg godt bemerka i Telemark gjennom åra. Med ikkje mindre enn ti konsertar på Treungenfestivalen og som hyppige gjestar på Viser ved kanalen har dei sett solide spor etter seg. Dei som har fulgt bandet ei stund\, vil hugse livlege og uforgløymelege kveldar – og no er det duka for nye musikkminne ved bryggekanten i Kviteseid. \n\n\n\nSjangermessig kan publikum vente seg gitarbasert pop og rock med drag av folketonar – og alt med norske tekstar. Dette vert ein sommarkveld du ikkje vil gå glipp av – med ekte Telemarksrock\, lune tekstar og ein scene full av speleglede. Vel møtt! \n\n\n\n\nKjøp billetter her!
URL:https://sommerikviteseid.com/arrangement/runde-sanden-band/
LOCATION:Telemark
ATTACH;FMTTYPE=image/png:https://sommerikviteseid.com/wp-content/uploads/2025/06/runesandenband2025.png
END:VEVENT
END:VCALENDAR