BEGIN:VCALENDAR
VERSION:2.0
PRODID:-// - ECPv6.15.14//NONSGML v1.0//EN
CALSCALE:GREGORIAN
METHOD:PUBLISH
X-ORIGINAL-URL:https://sommerikviteseid.com
X-WR-CALDESC:Arrangement for 
REFRESH-INTERVAL;VALUE=DURATION:PT1H
X-Robots-Tag:noindex
X-PUBLISHED-TTL:PT1H
BEGIN:VTIMEZONE
TZID:UTC
BEGIN:STANDARD
TZOFFSETFROM:+0000
TZOFFSETTO:+0000
TZNAME:UTC
DTSTART:20240101T000000
END:STANDARD
END:VTIMEZONE
BEGIN:VEVENT
DTSTART;TZID=UTC:20250625T100000
DTEND;TZID=UTC:20250803T170000
DTSTAMP:20260420T071421
CREATED:20250604T193204Z
LAST-MODIFIED:20250604T193259Z
UID:10000015-1750845600-1754240400@sommerikviteseid.com
SUMMARY:Kulturhistoriske seilas til Nissedal og Vråliosen
DESCRIPTION:I sommer er det klart for kulturhistoriske seilas med veteranbåten M/S Fram fra Vrådal til Nissedal og Vråliosen. \n\n\n\nMed lokalkjente guider: Torgeir Nordal til Nissedal og Magne Wraa til Vråliosen. Kaptein på turene: Reidar Skogheim. Æreslos: Olav Tveitane. \n\n\n\n1 Kulturhistorisk seilas til Nissedal\n\n\n\n\n\n\n\nNår: onsdag 25. juni\, onsdag 16. juli og søndag 27. juli 2025. Historieforteller og guide: Torgeir Nordal. Avg. Straand Brygge kl. 10.30Ank/ Avg. Vik Brygge (Nordbygda) kl. 12.00Ank/ Avg. Prestegardsbrygga (Kyrkjebygda) kl. 12.30Ank/ Avg. Vik Brygge kl. 14.30Ank/ Avg. Prestegardsbrygga kl. 15.00Ank. Straand Brygge kl. 17.00Billettpris for tur/ retur Nissedal/ Vrådal kr. 395\,- pr. pers.Billettpris for rundtur i Nissedal kr. 270\,- pr. pers.Billettpris én vei til/ fra Nissedal kr. 225\,- \n\n\n\n2 Kulturhistorisk seilas til Vråliosen\n\n\n\nNår: søndag 3. august 2025 \n\n\n\nHistorieforteller og guide: Magne Wraa. Avg. Straand Brygge kl. 10.30.Ank Vråliosen kl. 13.00Avg. Vråliosen kl. 13.30Ank. Straand brygge kl. 15:30Billettpris for tur/ retur Vråliosen/ Vrådal kr. 395\,- pr. pers.Billettpris én vei til/ fra Vråliosen Kr. 225\,- pr. pers. \n\n\n\n\nKjøp billetter her!
URL:https://sommerikviteseid.com/arrangement/kulturhistoriske-seilas-til-nissedal-og-vraliosen/
LOCATION:Vrådal\, Vråliosvegen 50\, Vrådal\, Telemark\, 3850\, Norway
ATTACH;FMTTYPE=image/jpeg:https://sommerikviteseid.com/wp-content/uploads/2025/06/web_MS_Fram.jpg
ORGANIZER;CN="Straand Hotel":MAILTO:straand@straand.no
END:VEVENT
BEGIN:VEVENT
DTSTART;TZID=UTC:20250709T120000
DTEND;TZID=UTC:20250731T170000
DTSTAMP:20260420T071421
CREATED:20250704T122700Z
LAST-MODIFIED:20250704T122701Z
UID:10000031-1752062400-1753981200@sommerikviteseid.com
SUMMARY:Salsutstilling ved Galleri Sølvsmedtunet
DESCRIPTION:Vraadal Strikk ved Lise Bjerkelund har salsutstilling ved Galleri Sølvsmedtunet i Vrådal i sommar. Åpningen er onsdag 9. juli kl. 12. Då blir det servert rabarbrasaft og jordbær frå Sanden & Lie. Vel møtt!
URL:https://sommerikviteseid.com/arrangement/salsutstilling-ved-galleri-solvsmedtunet/
LOCATION:Vrådal\, Vråliosvegen 50\, Vrådal\, Telemark\, 3850\, Norway
ATTACH;FMTTYPE=image/jpeg:https://sommerikviteseid.com/wp-content/uploads/2025/07/481143974_122138473808461248_8938032330335534576_n.jpg
ORGANIZER;CN="S%C3%B8lvsmedtunet":MAILTO:post@solvsmedtunet.no
END:VEVENT
BEGIN:VEVENT
DTSTART;TZID=UTC:20250711T180000
DTEND;TZID=UTC:20250711T233000
DTSTAMP:20260420T071421
CREATED:20250604T190933Z
LAST-MODIFIED:20250704T123402Z
UID:10000014-1752256800-1752276600@sommerikviteseid.com
SUMMARY:Quiz + konsert med Camilla Tvitekkja Bergland og Morten Vestly
DESCRIPTION:Velkommen til Kviteseid brygge og ein fredag med levande musikk! \n\n\n\nDet blir quiz kl. 18:00 på brygga fyrst. Så blir det musikk med Camilla Tvitekkja Bergland og Morten Vestly frå kl. 21:00. \n\n\n\nMorten Vestly og Camilla T. Bergland. Foto: Privat\n\n\n\nCAMILLA T. BERGLANDCamilla er en ung artist og låtskriver fra Rauland\, med et smittende godt humør og sjarmerende vesen. Hun har deltatt på talentkonkurransen Sjøorm country på Seljord Countryfestivalen\, jakten på Norges nye countrystjerne i regi av Universal Music\, gjort gjesteopptreden på Bamble countryfestival sammen med Morten Vestly Band og deltatt på fylkesmønstring med UKM med fullt band. I tillegg har Camilla underholdt med sang og gitar på Vinjedagen fire år på rad.Med ekte Raulands dialekt lanserte Camilla sin første singel «Den rette»\, 5 april 2025 og har allerede nådd 15.000 avspillinger på 1 måned. \n\n\n\nMORTEN VESTLYMorten Vestly f 1974 og er fra Kodal i Vestfold og har lang erfaring som musiker. I ungdommen var det Heavy Metal og Rock n Roll som sto i høysetet til han i en alder av 16 år fant fram sin fars gamle Country kassetter og det ble hans vei å gå fra da.Morten har 2 USA inspillte album fra 2001 i Texas og 2008 i California.Siden 2019 har Morten Vestly jobbet med sin første utgivelse på norsk hvor noen av låtene ble spilt inn i en tom låve i Kragerø på jakt etter en spesiell sound.Utgivelsen i sin helhet er det utgivelse på tidlig april 2025Vokalt pålegg og andre instrumentelle pålegg har blitt gjort hos Halvor Halvorsen i Jukejoint Studio på Notodden. Låtene er noe nytt\, men de fleste av låtene er fra de 3 foregående utgivelsene oversatt til morsmålet.Låtene «Stabburet» «Fiskestanga» «Kaffekoppen» «Endeløse Vei» og «Gamle Sjuern» er 5 singler som er sluppet på Spotify og har blitt godt mottatt av publikum.Morten Vestly har lang fartstid både i inn og utland med musikken sin og har vært en fast festival gjenger på de store Country festivalene i Norge. Morten har i år 25 års jubileum som artist og konferansier på Country festivalen Seljord. Har også lang fartstid som artist og konferansier på Vinstra Country Festival i tidligere år.
URL:https://sommerikviteseid.com/arrangement/bryggefestivalen-i-kviteseid/
LOCATION:Kviteseid\, Kviteseidgata 18\, Kviteseid\, Telemark\, 3850\, Norway
ATTACH;FMTTYPE=image/jpeg:https://sommerikviteseid.com/wp-content/uploads/2025/06/MortenVestly_CamillaBergland.jpg
END:VEVENT
END:VCALENDAR