BEGIN:VCALENDAR
VERSION:2.0
PRODID:-// - ECPv6.15.14//NONSGML v1.0//EN
CALSCALE:GREGORIAN
METHOD:PUBLISH
X-ORIGINAL-URL:https://sommerikviteseid.com
X-WR-CALDESC:Arrangement for 
REFRESH-INTERVAL;VALUE=DURATION:PT1H
X-Robots-Tag:noindex
X-PUBLISHED-TTL:PT1H
BEGIN:VTIMEZONE
TZID:UTC
BEGIN:STANDARD
TZOFFSETFROM:+0000
TZOFFSETTO:+0000
TZNAME:UTC
DTSTART:20240101T000000
END:STANDARD
END:VTIMEZONE
BEGIN:VEVENT
DTSTART;TZID=UTC:20250625T100000
DTEND;TZID=UTC:20250803T170000
DTSTAMP:20260420T072018
CREATED:20250604T193204Z
LAST-MODIFIED:20250604T193259Z
UID:10000015-1750845600-1754240400@sommerikviteseid.com
SUMMARY:Kulturhistoriske seilas til Nissedal og Vråliosen
DESCRIPTION:I sommer er det klart for kulturhistoriske seilas med veteranbåten M/S Fram fra Vrådal til Nissedal og Vråliosen. \n\n\n\nMed lokalkjente guider: Torgeir Nordal til Nissedal og Magne Wraa til Vråliosen. Kaptein på turene: Reidar Skogheim. Æreslos: Olav Tveitane. \n\n\n\n1 Kulturhistorisk seilas til Nissedal\n\n\n\n\n\n\n\nNår: onsdag 25. juni\, onsdag 16. juli og søndag 27. juli 2025. Historieforteller og guide: Torgeir Nordal. Avg. Straand Brygge kl. 10.30Ank/ Avg. Vik Brygge (Nordbygda) kl. 12.00Ank/ Avg. Prestegardsbrygga (Kyrkjebygda) kl. 12.30Ank/ Avg. Vik Brygge kl. 14.30Ank/ Avg. Prestegardsbrygga kl. 15.00Ank. Straand Brygge kl. 17.00Billettpris for tur/ retur Nissedal/ Vrådal kr. 395\,- pr. pers.Billettpris for rundtur i Nissedal kr. 270\,- pr. pers.Billettpris én vei til/ fra Nissedal kr. 225\,- \n\n\n\n2 Kulturhistorisk seilas til Vråliosen\n\n\n\nNår: søndag 3. august 2025 \n\n\n\nHistorieforteller og guide: Magne Wraa. Avg. Straand Brygge kl. 10.30.Ank Vråliosen kl. 13.00Avg. Vråliosen kl. 13.30Ank. Straand brygge kl. 15:30Billettpris for tur/ retur Vråliosen/ Vrådal kr. 395\,- pr. pers.Billettpris én vei til/ fra Vråliosen Kr. 225\,- pr. pers. \n\n\n\n\nKjøp billetter her!
URL:https://sommerikviteseid.com/arrangement/kulturhistoriske-seilas-til-nissedal-og-vraliosen/
LOCATION:Vrådal\, Vråliosvegen 50\, Vrådal\, Telemark\, 3850\, Norway
ATTACH;FMTTYPE=image/jpeg:https://sommerikviteseid.com/wp-content/uploads/2025/06/web_MS_Fram.jpg
ORGANIZER;CN="Straand Hotel":MAILTO:straand@straand.no
END:VEVENT
BEGIN:VEVENT
DTSTART;TZID=UTC:20250802T150000
DTEND;TZID=UTC:20250802T170000
DTSTAMP:20260420T072018
CREATED:20250604T203135Z
LAST-MODIFIED:20250611T120735Z
UID:10000024-1754146800-1754154000@sommerikviteseid.com
SUMMARY:Byvandring med Gunnar Ruud
DESCRIPTION:Laurdag 2. august kl. 15.00 blir det byvandring i Kviteseid med Gunnar Ruud. Oppmøte ved bryggekafeen.
URL:https://sommerikviteseid.com/arrangement/byvandring-med-gunnar-ruud-2/
LOCATION:Kviteseid\, Kviteseidgata 18\, Kviteseid\, Telemark\, 3850\, Norway
ATTACH;FMTTYPE=image/jpeg:https://sommerikviteseid.com/wp-content/uploads/2025/06/IMG_9731-scaled.jpg
END:VEVENT
BEGIN:VEVENT
DTSTART;TZID=UTC:20250803T110000
DTEND;TZID=UTC:20250803T130000
DTSTAMP:20260420T072018
CREATED:20250611T120620Z
LAST-MODIFIED:20250710T095902Z
UID:10000038-1754218800-1754226000@sommerikviteseid.com
SUMMARY:Brunch på brygga
DESCRIPTION:Kom og et sundagsbrunch i fellesskap på bryggekafeen ved Kviteseid brygge!
URL:https://sommerikviteseid.com/arrangement/brunch-pa-brygga-2/2025-08-03/
LOCATION:Kviteseid\, Kviteseidgata 18\, Kviteseid\, Telemark\, 3850\, Norway
ATTACH;FMTTYPE=image/jpeg:https://sommerikviteseid.com/wp-content/uploads/2025/06/Lunsj-pa-Brygga.jpg
END:VEVENT
BEGIN:VEVENT
DTSTART;TZID=UTC:20250808T180000
DTEND;TZID=UTC:20250808T210000
DTSTAMP:20260420T072018
CREATED:20250604T203248Z
LAST-MODIFIED:20250624T101820Z
UID:10000025-1754676000-1754686800@sommerikviteseid.com
SUMMARY:Quiz og live musikk på brygga
DESCRIPTION:Fredag 8. august er det igjen klart for quiz ved bryggekafeen i Kviteseid. Quizen startar kl. 18.00. Seinare på kvelden blir det live musikk.
URL:https://sommerikviteseid.com/arrangement/quiz-pa-brygga-3/
LOCATION:Kviteseid\, Kviteseidgata 18\, Kviteseid\, Telemark\, 3850\, Norway
ATTACH;FMTTYPE=image/jpeg:https://sommerikviteseid.com/wp-content/uploads/2025/06/499224969_122110132064860731_6266948969284337365_n.jpg
END:VEVENT
BEGIN:VEVENT
DTSTART;TZID=UTC:20250809T210000
DTEND;TZID=UTC:20250809T230000
DTSTAMP:20260420T072018
CREATED:20250611T120455Z
LAST-MODIFIED:20250611T120647Z
UID:10000026-1754773200-1754780400@sommerikviteseid.com
SUMMARY:Live musikk på brygga
DESCRIPTION:Laurdag kveld 9. august blir det live musikk ved bryggekafeen i Kviteseid. Meir info kommer når det er klart!
URL:https://sommerikviteseid.com/arrangement/live-musikk-pa-brygga/
LOCATION:Kviteseid\, Kviteseidgata 18\, Kviteseid\, Telemark\, 3850\, Norway
ATTACH;FMTTYPE=image/jpeg:https://sommerikviteseid.com/wp-content/uploads/2025/06/502583921_122114434700860731_8456672238229112457_n.jpg
END:VEVENT
BEGIN:VEVENT
DTSTART;TZID=UTC:20250810T110000
DTEND;TZID=UTC:20250810T130000
DTSTAMP:20260420T072018
CREATED:20250611T120620Z
LAST-MODIFIED:20250710T095902Z
UID:10000034-1754823600-1754830800@sommerikviteseid.com
SUMMARY:Brunch på brygga
DESCRIPTION:Kom og et sundagsbrunch i fellesskap på bryggekafeen ved Kviteseid brygge!
URL:https://sommerikviteseid.com/arrangement/brunch-pa-brygga-2/2025-08-10/
LOCATION:Kviteseid\, Kviteseidgata 18\, Kviteseid\, Telemark\, 3850\, Norway
ATTACH;FMTTYPE=image/jpeg:https://sommerikviteseid.com/wp-content/uploads/2025/06/Lunsj-pa-Brygga.jpg
END:VEVENT
BEGIN:VEVENT
DTSTART;TZID=UTC:20260806T100000
DTEND;TZID=UTC:20260808T150000
DTSTAMP:20260420T072018
CREATED:20260123T000359Z
LAST-MODIFIED:20260306T135328Z
UID:10000039-1786010400-1786201200@sommerikviteseid.com
SUMMARY:Barn 6–14 år: Tren med Liverpool Football Club i Kviteseid 6.–8. august 2026
DESCRIPTION:Liverpool International Football Academy inviterer barn og unge i alderen 6–14 år til Liverpool Football School i Kviteseid 6.–8. august 2026. Fotballskolen blir gjennomført av profesjonelle trenere fra Liverpool FC og gir deltakerne trening etter den anerkjente the Liverpool Way – med fokus på ferdigheter\, mestring\, spilleglede og gode verdier. Påmelding for 2026 er nå åpen. \n\n\n\n\nMeld deg på her!\n\n\n\n\n\n\n\n\nLiverpool Football School kommer til Kviteseid 6.–8. august 2026\n\n\n\nTrening etter «The Liverpool Way»\n\n\n\nAll sportslig gjennomføring og faglig innhold leveres av profesjonelle trenere fra Liverpool FC sitt akademi\, ansatt ved Liverpool International Football Academy. Dette er trenere som jobber med spillerutvikling på heltid\, og som reiser verden rundt for å undervise unge spillere i Liverpool FCs metodikk og verdigrunnlag. \n\n\n\nBarna blir trent i grunnleggende og avanserte ferdigheter som: \n\n\n\n\nPasning og mottak\n\n\n\nDribling og ballføring\n\n\n\nLøp med ball\n\n\n\nAvslutninger\n\n\n\n\nAlt tilpasses den enkeltes nivå\, behov og forutsetninger. Fokus ligger på mestring\, utvikling og spilleglede – i et trygt og profesjonelt læringsmiljø. \n\n\n\nMer enn bare fotball\n\n\n\nLiverpool FC mener at utviklingen av unge mennesker handler om mer enn teknikk. Gjennom akademiets programmer vektlegges også: \n\n\n\n\nSamarbeid og lagfølelse\n\n\n\nRespekt for medspillere og motspillere\n\n\n\nAmbisjoner og dedikasjon\n\n\n\n\nDette er verdier som har preget spillere som Steven Gerrard og Trent Alexander-Arnold\, og som fortsatt står sentralt i klubbens filosofi. \n\n\n\nThe Liverpool Way Award og eAcademy \n\n\n\nPå hver Liverpool International Academy velges én deltaker som mottar den prestisjefylte The Liverpool Way Award. Prisen tildeles spilleren som best har vist klubbens kjerneverdier: Ambition\, Commitment\, Dignity og Unity. \n\n\n\nVinneren mottar: \n\n\n\n\n12 måneders abonnement på LFC eAcademy\, Liverpools digitale treningsplattform\n\n\n\nTilgang til over 70 tekniske treningsvideoer med demonstrasjoner fra både LFC-trenere og førstelagsspillere\n\n\n\n\nAlle deltakere mottar også individuell tilbakemelding fra trenerne\, slik at utviklingen kan fortsette også etter fotballskolen. \n\n\n\nFullt program blir lagt ut fortløpende\, fredag blir det et kveldsarrangement – kanskje kommer det tidligere Liverpool-legender på besøk? \n\n\n\n\nMeld deg på her!\n\n\n\n\n\n\n\n\nPraktisk informasjon\n\n\n\nSted: Kviteseid \n\n\n\nDato: 6.–8. august \n\n\n\nTid: kl. 10.00 – 15.00 hver dag (Oppmøte senest kl. 09.30) \n\n\n\nAlder: 6–14 år (aldersinndelt etter fødselsår) \n\n\n\nSpråk: Treningen foregår på engelsk\, med norske trenerassistenter til stede i alle grupper \n\n\n\nOvernatting:\n\n\n\nMorgedal Spa & Resort https://morgedal.no/ \n\n\n\nPriser: \n\n\n\nEnkeltrom inkl frokost: 1.595\,- pr. døgn \n\n\n\nDobbeltrom inkl. frokost: 1.895\,- pr. døgn \n\n\n\nMorgedal Gjestehus (kun 5 rom) – dobbeltrom inkl frokost: kr 1.695\,- m/ frokost pr. døgn. \n\n\n\nHytte på Morgedal Camping med sengeplass til 5 stk og selvhushold\, inkl. sengetøy\, håndklær og utvask: 1.850\,- pr døgn \n\n\n\nPå Morgedal Camping kan det også leies plass til bobil eller campingvogn:  inkl strøm 400\,- og uten strøm 300\,-   \n\n\n\nMorgedal Camping har også teltplass u/strøm til kr 300\,- \n\n\n\nBooking: +47 35 06 89 00 | morgedalhotel@unikehoteller.no  – oppgi tilbudskode: “Liverpool Footballschool” \n\n\n\nStraand Hotel https://straand.no/ \n\n\n\nPriser: \n\n\n\nEnkeltrom inkl frokost: 1.330\,- pr. døgn \n\n\n\nDobbeltrom inkl frokost: 1.725\,- pr døgn \n\n\n\nTillegg for ekstra person/barn på rommet: 300\,- \n\n\n\nFamilierom: har plass til 4 personer og Demi-suiter har plass til 5 personer – 25% rabattBooking: +47 35 06 90 00 | straand@straand.no – oppgi tilbudskode: “Liverpool Footballschool” \n\n\n\nVelkommen til Kviteseid!\n\n\n\nVelkommen til Kviteseid kommune! Tre naturskjønne bygder som ligger idyllisk til mellom vann\, elver\, skog og fjell. Her er det flott om sommeren når åser og daler kles i et teppe av grønt gress og markblomst så langt øyet kan se. \n\n\n\nHer finner du et rikt utvalg av severdigheter og handel. Det er også mange overnattingsmuligheter fra camping\, bobil eller på finere hotell. \n\n\n\nLiverpool Footballschool arrangeres i Kviteseidbyen\, som er et sjarmerende handels- og servicesenter som oser av atmosfære og hygge. Her kan du kjenne på den behagelige stemningen\, enten du vandrer innom en av kafeene eller besøker noen av butikkene. \n\n\n\nM/S Victoria kommer nesten daglig innom Kviteseid Brygge om sommeren. Her finner du også restauranten bryggekafeen\, som har aktiviteter og konserter gjennom hele sommeren. \n\n\n\nAvstander til Kviteseid: \n\n\n\nAsker – 2 t 30 min \n\n\n\nDrammen – 2 t 15 min \n\n\n\nKongsberg – 1 t 40 min \n\n\n\nSkien – 1 t 40 min \n\n\n\nBø Sommarland – 50 min
URL:https://sommerikviteseid.com/arrangement/barn-6-14-ar-tren-med-liverpool-football-club-i-kviteseid-6-8-august-2026/
LOCATION:Kviteseidhallen\, Knut Taraldsens veg 8\, Kviteseid\, Telemark\, 3850\, Norway
ATTACH;FMTTYPE=image/jpeg:https://sommerikviteseid.com/wp-content/uploads/2026/01/20251215-Kviteseid-Norway-2026.jpg
END:VEVENT
END:VCALENDAR