BEGIN:VCALENDAR
VERSION:2.0
PRODID:-// - ECPv6.15.14//NONSGML v1.0//EN
CALSCALE:GREGORIAN
METHOD:PUBLISH
X-ORIGINAL-URL:https://sommerikviteseid.com
X-WR-CALDESC:Arrangement for 
REFRESH-INTERVAL;VALUE=DURATION:PT1H
X-Robots-Tag:noindex
X-PUBLISHED-TTL:PT1H
BEGIN:VTIMEZONE
TZID:UTC
BEGIN:STANDARD
TZOFFSETFROM:+0000
TZOFFSETTO:+0000
TZNAME:UTC
DTSTART:20240101T000000
END:STANDARD
END:VTIMEZONE
BEGIN:VEVENT
DTSTART;TZID=UTC:20250617T000000
DTEND;TZID=UTC:20250617T235959
DTSTAMP:20260420T192858
CREATED:20250604T184756Z
LAST-MODIFIED:20250604T192141Z
UID:10000007-1750118400-1750204799@sommerikviteseid.com
SUMMARY:Tapascruise med M/S Victoria
DESCRIPTION:Tirsdag 17. juni kaster vi loss og setter ut på Bandak med tapas på menyen! \n\n\n\nVelkommen om bord på majestetiske M/S Victoria! Ta med venner og kollegaer på Tapas-Cruise fra Kviteseid til Dalen. Det vil bli mulighet for avreise både fra Fjågesund brygge og Kviteseid brygge. \n\n\n\nOpplev en uforglemmelig seilas omgitt av vakker natur\, imponerende fjell og en historisk atmosfære om bord. \n\n\n\nKort tid etter avgang fra Kviteseid Brygge får vi servert en herlig tapasbuffé med både kald- og varmretter. \n\n\n\nSkipet har bevilling for salg av øl og vin\, samt et rikt utvalg av alkoholfri drikke. \n\n\n\nM/S Victoria ankommer Dalen Brygge kl 18.35. Her kan man enten nyte livet om bord eller ta seg en kort spasertur i vakre Dalen\, før bussen kjører oss tilbake kl 19.30. Bussen tilbake stopper på Morgedal (Norsk Skieventyr)\, Kviteseid Brygge og Fjågesund (Fjågesund kyrkje). \n\n\n\nNyttig informasjon\n\n\n\nAvreisetidspunkt – tirsdag 17. juni: Fjågesund Brygge kl. 15.20 \n\n\n\nKviteseid Brygge kl. 16.20  \n\n\n\nBegrenset antall plasser og reisen må bestilles innen mandag 9. juni. \n\n\n\nBESTILL HER: \n\n\n\nAvreise fra Fjågesund Brygge: Tapas cruise med M/S Victoria fra Fjågesund til Dalen 17. juniLenke til et annet nettsted. \n\n\n\nAvreise fra Kviteseid Brygge: Tapas cruise med M/S Victoria fra Kviteseid til Dalen 17. juni
URL:https://sommerikviteseid.com/arrangement/tapascruise-med-m-s-victoria/
LOCATION:Kviteseid\, Kviteseidgata 18\, Kviteseid\, Telemark\, 3850\, Norway
ATTACH;FMTTYPE=image/png:https://sommerikviteseid.com/wp-content/uploads/2025/06/Victoria2.png
END:VEVENT
BEGIN:VEVENT
DTSTART;TZID=UTC:20250614T150000
DTEND;TZID=UTC:20250614T230000
DTSTAMP:20260420T192858
CREATED:20250604T184607Z
LAST-MODIFIED:20250611T110829Z
UID:10000006-1749913200-1749942000@sommerikviteseid.com
SUMMARY:Quiz og trubadur John Bruaas lørdag kveld
DESCRIPTION:Det blir quiz og levende musikk med trubadur John Bruaas ved Kviteseid brygge lørdag kveld. \n\n\n\nJohn Bruaas. Foto: Atle Slettingdalen
URL:https://sommerikviteseid.com/arrangement/quiz-og-trubadur-john-buraas-lordag-kveld/
LOCATION:Telemark
ATTACH;FMTTYPE=image/jpeg:https://sommerikviteseid.com/wp-content/uploads/2025/06/John_Bruaas.jpg
END:VEVENT
BEGIN:VEVENT
DTSTART;TZID=UTC:20250614T130000
DTEND;TZID=UTC:20250614T170000
DTSTAMP:20260420T192858
CREATED:20250604T181246Z
LAST-MODIFIED:20250611T103815Z
UID:10000004-1749906000-1749920400@sommerikviteseid.com
SUMMARY:Olabilløp ned Kviteseidgata
DESCRIPTION:Olabilløp ned Kviteseidgata\n\n\n\nLaurdag 14. juni\, kl.13.30.(Oppmøte kl.13.00) \n\n\n\nOlabilløpet i fjor vart ein suksess\, men vi håpar jo på endå fleire deltakarar i år. Så finn fram din indre Reodor Felgen og bli med på olabilløpet under årets Victoriafestival. \n\n\n\nFLOTTE PREMIAR – GÅVEKORT FRÅ KVITESEIDBYEN.1. plass: kr.3000\,- 2. plass kr. 1500\,- 3. plass: kr. 500\,- \n\n\n\nFor å melde deg på\, send mail til post@kviteseidbyen.no\, med navn\, alder og navn på bil.
URL:https://sommerikviteseid.com/arrangement/olabillop-ned-kviteseidgata/
LOCATION:Telemark
ATTACH;FMTTYPE=image/jpeg:https://sommerikviteseid.com/wp-content/uploads/2025/06/Olabillop.jpg
END:VEVENT
BEGIN:VEVENT
DTSTART;TZID=UTC:20250614T120000
DTEND;TZID=UTC:20250614T200000
DTSTAMP:20260420T192858
CREATED:20250603T223537Z
LAST-MODIFIED:20250604T175447Z
UID:10000003-1749902400-1749931200@sommerikviteseid.com
SUMMARY:Sondre Norheim 200 år
DESCRIPTION:Sondre Norheim\, ofte kalla far til den moderne skisport\, vart født 10. juni 1825\, og laurdag 14. juni 2025 skal dagen markerast med eit variera program i Morgedal sentrum. \nStart gjerne dagen med eit besøk til Øverbø\, staden der Sondre vart født for 200 år sidan. Stoga står ope og frå plassen har du flott vidsyn til Morgedal. \nNorsk Skieventyr har ope frå kl 10:00. Servering av tradisjonell husmannskost frå klokka 11:00. \nPosten har «Minipostkontor» med jubileumsstempel og sal av samleprodukter på Norsk Skieventyr. \nProgram for dagen: \n12.00 – Norsk Skieventyr \n\nOpning av ny skisimulator v/fylkesordførar Sven Tore Løkslid\nPosten  –  presentasjon av jubileumsfrimerke v/frimerkedirektør Halvor Fasting\n\n14.00 – Ridebanen i Morgedal sentrum \n\nVelkomen v/ordførar Tarjei Draugedal\nSpelet «Bakkane kallar» om Rannei og Sondre v/ Hæge Manheim\, Hans Jakob Sand – lokale statistar\n«Sondre Norheim\, husmann og skiløypar» – bokslepp og føredrag med Thor Gotaas\nMusikkinslag med Symre Bang\n\n17.00 – Morgedal Hotel \n\nJubileumsmiddag – 3 rettars meny med lokalmat – Telemarkstallerken lansert av Matrike Telemark.\nKr. 695\,- per person.\nPåmelding: morgedalhotel@unikehoteller.no\n\nProgrammet på dagen er gratis:-) \nVelkomen!
URL:https://sommerikviteseid.com/arrangement/sondre-norheim-200-ar/
LOCATION:Morgedal\, Morgedalvegen 159\, Morgedal\, Telemark\, 3848\, Norway
ATTACH;FMTTYPE=image/jpeg:https://sommerikviteseid.com/wp-content/uploads/2025/06/last-ned.jpeg
END:VEVENT
BEGIN:VEVENT
DTSTART;TZID=UTC:20250613T180000
DTEND;TZID=UTC:20250613T235959
DTSTAMP:20260420T192858
CREATED:20250604T184436Z
LAST-MODIFIED:20250611T110715Z
UID:10000005-1749837600-1749859199@sommerikviteseid.com
SUMMARY:Quiz og trubadur John Bruaas fredag kveld
DESCRIPTION:Det blir quiz og levende musikk med trubadur John Bruaas ved Kviteseid brygge fredag kveld. \n\n\n\nJohn Bruaas. Foto: Atle Slettingdalen
URL:https://sommerikviteseid.com/arrangement/quiz-og-trubadur-john-buraas/
LOCATION:Telemark
ATTACH;FMTTYPE=image/jpeg:https://sommerikviteseid.com/wp-content/uploads/2025/06/John_Bruaas.jpg
END:VEVENT
BEGIN:VEVENT
DTSTART;VALUE=DATE:20250613
DTEND;VALUE=DATE:20250615
DTSTAMP:20260420T192858
CREATED:20250603T201754Z
LAST-MODIFIED:20250611T103730Z
UID:10000001-1749772800-1749945599@sommerikviteseid.com
SUMMARY:Victoriafestivalen
DESCRIPTION:– FESTIVALEN VED KANALEN – \nI år spelar Bråtabrann og Morgan Sulele på brygga\, laurdag frå kl. 22.00. 18år leg. plikt. Billettsalg: www.ticketmaster.no. \nFredag 13. juni \n10:00-18:00 Forretningane og bodane har ope.\n13:00-14:00 Allsang i Hansenhagen m/ Jan Haugen og Vidar Magnushommen\n15:00-17:00 Ansiktsmåling m/Sonja Bakken Braun\n16:15 Ordførar Tarjei Draugedal ønskjer velkommen\n16:30 Sommarkonsert v/ Kviteseid Kulturskule\n18:00 Kviteseid brygge – Quiz.\n20.00 Kviteseid brygge – Trubadur John Buraas \nLaurdag 14. juni \n10:00-16:00 Forretningane og bodane har ope\n11:00-13:00 Sommarfiske med KJFF\n11:00-16:00 Utstilling av veteranbilar/MC/Hobbykjøretøy i Garverivegen\n-Velkommen til å stille ut – påmelding: Tore Andersen og Magne Eikland\n11:00-13:00 Ansiktsmåling m/Sonja Bakken Braun og hårfletting/styling m/Balanzera.\n12:00 Familieteater i Bryggeparken m/ Tatoveringen/Teater Avvik.\n13:30: Olabilløp i Kviteseidgata\nPåmelding: post@kviteseidbyen.no\nOppmøte kl. 13:00 v/ Parkering Sverre Ruud\n15:00-16:15: Kviteseid brygge – Trubadur John Buraas\n16:20 M/S Victoria Kjem\n20.45-21.45: Storscena i bryggeparken – Trubadur John Buraas\n22:00- 01:30 BRYGGEFEST – Bråtabrann og Morgan Sulele\n– 18år leg.plikt. Billettsalg: www.ticketmaster.no kr. 495\,-pr stk. \nVELKOMEN til Kviteseid! \nArrangør: Kviteseid Næringslag.\nMedarrangørar:\nKviteseid JFF\, Kviteseid kulturskule\, Kviteseid frivilligssentral\, Kviteseid kommune.
URL:https://sommerikviteseid.com/arrangement/victoriafestivalen/
LOCATION:Kviteseid\, Kviteseidgata 18\, Kviteseid\, Telemark\, 3850\, Norway
ATTACH;FMTTYPE=image/jpeg:https://sommerikviteseid.com/wp-content/uploads/2025/06/Victoriafestivalen.jpg
END:VEVENT
END:VCALENDAR