BEGIN:VCALENDAR
VERSION:2.0
PRODID:-// - ECPv6.15.14//NONSGML v1.0//EN
CALSCALE:GREGORIAN
METHOD:PUBLISH
X-ORIGINAL-URL:https://sommerikviteseid.com
X-WR-CALDESC:Arrangement for 
REFRESH-INTERVAL;VALUE=DURATION:PT1H
X-Robots-Tag:noindex
X-PUBLISHED-TTL:PT1H
BEGIN:VTIMEZONE
TZID:UTC
BEGIN:STANDARD
TZOFFSETFROM:+0000
TZOFFSETTO:+0000
TZNAME:UTC
DTSTART:20240101T000000
END:STANDARD
END:VTIMEZONE
BEGIN:VEVENT
DTSTART;TZID=UTC:20250704T180000
DTEND;TZID=UTC:20250704T210000
DTSTAMP:20260421T114403
CREATED:20250604T185805Z
LAST-MODIFIED:20250624T101957Z
UID:10000011-1751652000-1751662800@sommerikviteseid.com
SUMMARY:Quiz på brygga
DESCRIPTION:Det blir quiz ved bryggekafeen i Kviteseid fredag 4. juli fra kl 18.
URL:https://sommerikviteseid.com/arrangement/quiz-pa-brygga/
LOCATION:Kviteseid\, Kviteseidgata 18\, Kviteseid\, Telemark\, 3850\, Norway
ATTACH;FMTTYPE=image/jpeg:https://sommerikviteseid.com/wp-content/uploads/2025/06/499224969_122110132064860731_6266948969284337365_n.jpg
END:VEVENT
END:VCALENDAR