BEGIN:VCALENDAR
VERSION:2.0
PRODID:-// - ECPv6.15.14//NONSGML v1.0//EN
CALSCALE:GREGORIAN
METHOD:PUBLISH
X-ORIGINAL-URL:https://sommerikviteseid.com
X-WR-CALDESC:Arrangement for 
REFRESH-INTERVAL;VALUE=DURATION:PT1H
X-Robots-Tag:noindex
X-PUBLISHED-TTL:PT1H
BEGIN:VTIMEZONE
TZID:UTC
BEGIN:STANDARD
TZOFFSETFROM:+0000
TZOFFSETTO:+0000
TZNAME:UTC
DTSTART:20240101T000000
END:STANDARD
END:VTIMEZONE
BEGIN:VEVENT
DTSTART;TZID=UTC:20250716T200000
DTEND;TZID=UTC:20250716T220000
DTSTAMP:20260421T114853
CREATED:20250604T201207Z
LAST-MODIFIED:20250710T143549Z
UID:10000016-1752696000-1752703200@sommerikviteseid.com
SUMMARY:Badedisko (rusfri) m/ DJ Pöse og gratis pizzabuffé
DESCRIPTION:Onsdag 16. juli blir det rusfri badedisko for ungdom frå heile Vest-Telemark. Ferierande ungdom er sjølvsagt også velkomen. \n\n\n\nAldersgrense: 13–18 år – kl. 20–22. \n\n\n\n\nGratis pizzabuffé\n\n\n\nBading*\n\n\n\nDisco med DJ.Pöse\n\n\n\nKonkurransar\n\n\n\nKubb\, ringspel i parken m.m.\n\n\n\n\n*Det blir vakthold\, men bading er på eige ansvar. \n\n\n\nArrangementet er eit samarbeid mellom Kviteseid Brygge\, Kviteseid FRAM\, Kviteseid kommune og Kviteseid Frivillighetssentral. \n\n\n\nGratis inngang.
URL:https://sommerikviteseid.com/arrangement/ungdomsdisco-rusfri/
LOCATION:Kviteseid\, Kviteseidgata 18\, Kviteseid\, Telemark\, 3850\, Norway
ATTACH;FMTTYPE=image/png:https://sommerikviteseid.com/wp-content/uploads/2025/06/Badedisko.png
END:VEVENT
END:VCALENDAR