BEGIN:VCALENDAR
VERSION:2.0
PRODID:-// - ECPv6.15.14//NONSGML v1.0//EN
CALSCALE:GREGORIAN
METHOD:PUBLISH
X-ORIGINAL-URL:https://sommerikviteseid.com
X-WR-CALDESC:Arrangement for 
REFRESH-INTERVAL;VALUE=DURATION:PT1H
X-Robots-Tag:noindex
X-PUBLISHED-TTL:PT1H
BEGIN:VTIMEZONE
TZID:UTC
BEGIN:STANDARD
TZOFFSETFROM:+0000
TZOFFSETTO:+0000
TZNAME:UTC
DTSTART:20240101T000000
END:STANDARD
END:VTIMEZONE
BEGIN:VEVENT
DTSTART;TZID=UTC:20250717T080000
DTEND;TZID=UTC:20250720T210000
DTSTAMP:20260421T114321
CREATED:20250709T145003Z
LAST-MODIFIED:20250717T083100Z
UID:10000032-1752739200-1753045200@sommerikviteseid.com
SUMMARY:Bryggefestivalen i Kviteseid 2025
DESCRIPTION:BRYGGEFESTIVALEN 2025: Frå torsdag 17. til sundag 20. juli blir det liv og røre på Kviteseid brygge.\n\n\n\nFrå torsdag 17. juli til sundag 20. juli blir det cruise\, salsbodar og gode tilbud i byen (bla nederst for å sjå) samt ein rekke konsertar og arrangementer på Kviteseid brygge. Me sjåast!  \n\n\n\nTorsdag 17. juli \n\n\n\nTelemarkscruise\n\n\n\nVi inviterer til Telemarkscruise frå Kviteseid til Dalen. Det vil bli moglegheit for påstiging både frå Fjågesund brygge og Kviteseid brygge. \n\n\n\nOpplev ein uforgløymeleg seglas omgjeven av vakker natur\, imponerande fjell og ein historisk atmosfære om bord. \n\n\n\nKr 695\,- pr person \n\n\n\nInkluderer: Båtreise\, Telemarksbuffé om bord og busstransport hjem frå Dalen. \n\n\n\n\nBestill billett frå Fjågesund Brygge\n\n\n\nBestill billett frå Kviteseid Brygge\n\n\n\n\n– \n\n\n\nFredag 18. juli \n\n\n\nQuiz\, musikk og DJ – Kviteseid brygge\n\n\n\nKl. 18.00 blir det quiz på brygga (kr 50 pr. pers. – max 6 pers. per lag). \n\n\n\nEtter quizen blir det livlege toner frå trubadur Jan Thomas Moen etterfylgd av hans alter ego DJ.Pöse. \n\n\n\n\nLes meir om arrangementet her!\n\n\n\n\n– \n\n\n\nLaurdag 19. juli \n\n\n\nMusikkfest med BryggeCountry\n\n\n\nSPELER LAURDAG: Morten Vestly og Camilla T. Bergland. Foto: Privat\n\n\n\nSPELER LAURDAG: Hans Olaf Kastodden og Gunn Margit Langkaas. Foto: Privat\n\n\n\nDenne dagen blir det ekte musikkfest i Kviteseid! I tillegg vil det være gode tilbud både i butikker og kaféer\, samt eit utvalg av lokalmat i salsbodene mellom kl. 11–17. \n\n\n\nProgram: \n\n\n\n13.00: Allsang i Hansenhagen m/ Vidar Magnushommen – gratis inngang \n\n\n\n15.00: Open mikrofon på Kviteseid brygge! Då kan du ta mikrofonen eller spille med eget instrument! (påmelding og info – tlf/sms 90 50 69 51 – Vegard Angen Johnsen). Trubadur Jan Thomas Moen spelar også – gratis inngang \n\n\n\n20.00: BryggeCountry på Kviteseid brygge. Heile to duoar speler denne kvelden! Camilla Tvitekkja Bergland og Morten Vestly\, samt Hans Olaf Kastodden og Gunn Margit Langkaas.  \n\n\n\nInngang: 250\,- pr. person \n\n\n\n\nLes meir om Camilla Bergland og Morten Vestly her!\n\n\n\n\n– \n\n\n\nSundag 20. juli \n\n\n\nBrunch på brygga og bryggejazz\n\n\n\n\n\n\n\n11.00: Brunch på brygga (kr 179\,- inkl. glass med melk/juice) \n\n\n\n18.00: Bryggejazz – Analog Jazzband med Stanley Blackburn frå Kviteseid setter tonen på Kviteseid brygge. \n\n\n\nGode tilbod fredag og laurdag\n\n\n\nBryggefestivalen – tilbod
URL:https://sommerikviteseid.com/arrangement/bryggefestivalen-2025/
LOCATION:Kviteseid\, Kviteseidgata 18\, Kviteseid\, Telemark\, 3850\, Norway
ATTACH;FMTTYPE=image/png:https://sommerikviteseid.com/wp-content/uploads/2025/07/Bryggefestivalen_bildeNY-scaled.png
END:VEVENT
BEGIN:VEVENT
DTSTART;TZID=UTC:20250717T150000
DTEND;TZID=UTC:20250717T203000
DTSTAMP:20260421T114321
CREATED:20250604T201410Z
LAST-MODIFIED:20250708T140424Z
UID:10000017-1752764400-1752784200@sommerikviteseid.com
SUMMARY:Bryggefestivalen: Telemark-Cruise frå Kviteseid til Dalen
DESCRIPTION:TELEMARK-CRUISE: M/S Victoria ved Kviteseid Brygge.\n\n\n\nVelkommen om bord på M/S Victoria! \n\n\n\nVi inviterer til Telemark-Cruise frå Kviteseid til Dalen. Det vil bli moglegheit for påstiging både frå Fjågesund Brygge og Kviteseid Brygge \n\n\n\n Opplev ein uforgløymeleg seglas omgjeven av vakker natur\, imponerande fjell og ein historisk atmosfære om bord. \n\n\n\n Kort tid etter avgang får vi servert ein herleg Telemarksbuffé med både kald- og varmrettar. Skipet har bevilling for salg av øl og vin\, samt eit rikt utval av alkoholfri drikke. \n\n\n\nM/S Victoria kjem til Dalen Brygge kl. 18.35. Her kan du enten nyte livet om bord eller ta deg ein kort spasertur i vakre Dalen\, før bussen kjører oss tilbake kl. 19.30. \n\n\n\nPå tilbaketuren stopper bussen på Morgedal (Norsk Skieventyr)\, Kviteseid Brygge og Fjågesund (nær Fjågesund kyrkje). \n\n\n\nAvreisetidspunkt – torsdag 17. juli: \n\n\n\nFjågesund Brygge    kl. 15.20  \n\n\n\nKviteseid Brygge       kl. 16.20 \n\n\n\n\nBestill billett frå Fjågesund Brygge\n\n\n\nBestill billett frå Kviteseid Brygge
URL:https://sommerikviteseid.com/arrangement/telemarkscruise-med-m-s-victoria/
LOCATION:Kviteseid\, Kviteseidgata 18\, Kviteseid\, Telemark\, 3850\, Norway
ATTACH;FMTTYPE=image/jpeg:https://sommerikviteseid.com/wp-content/uploads/2025/06/502617857_122114053610860731_4782632849498607428_n.jpg
END:VEVENT
END:VCALENDAR