BEGIN:VCALENDAR
VERSION:2.0
PRODID:-// - ECPv6.15.14//NONSGML v1.0//EN
CALSCALE:GREGORIAN
METHOD:PUBLISH
X-ORIGINAL-URL:https://sommerikviteseid.com
X-WR-CALDESC:Arrangement for 
REFRESH-INTERVAL;VALUE=DURATION:PT1H
X-Robots-Tag:noindex
X-PUBLISHED-TTL:PT1H
BEGIN:VTIMEZONE
TZID:UTC
BEGIN:STANDARD
TZOFFSETFROM:+0000
TZOFFSETTO:+0000
TZNAME:UTC
DTSTART:20240101T000000
END:STANDARD
END:VTIMEZONE
BEGIN:VEVENT
DTSTART;TZID=UTC:20250704T180000
DTEND;TZID=UTC:20250704T210000
DTSTAMP:20260421T144855
CREATED:20250604T185805Z
LAST-MODIFIED:20250624T101957Z
UID:10000011-1751652000-1751662800@sommerikviteseid.com
SUMMARY:Quiz på brygga
DESCRIPTION:Det blir quiz ved bryggekafeen i Kviteseid fredag 4. juli fra kl 18.
URL:https://sommerikviteseid.com/arrangement/quiz-pa-brygga/
LOCATION:Kviteseid\, Kviteseidgata 18\, Kviteseid\, Telemark\, 3850\, Norway
ATTACH;FMTTYPE=image/jpeg:https://sommerikviteseid.com/wp-content/uploads/2025/06/499224969_122110132064860731_6266948969284337365_n.jpg
END:VEVENT
BEGIN:VEVENT
DTSTART;TZID=UTC:20250705T150000
DTEND;TZID=UTC:20250705T170000
DTSTAMP:20260421T144855
CREATED:20250604T185906Z
LAST-MODIFIED:20250611T120812Z
UID:10000012-1751727600-1751734800@sommerikviteseid.com
SUMMARY:Byvandring med Gunnar Ruud
DESCRIPTION:Laurdag 5. juli kl. 15.00 blir det byvandring i Kviteseid med Gunnar Ruud. Oppmøte ved bryggekafeen.
URL:https://sommerikviteseid.com/arrangement/byvandring-med-gunnar-ruud/
LOCATION:Telemark
ATTACH;FMTTYPE=image/jpeg:https://sommerikviteseid.com/wp-content/uploads/2025/06/IMG_9731-scaled.jpg
END:VEVENT
BEGIN:VEVENT
DTSTART;TZID=UTC:20250706T120000
DTEND;TZID=UTC:20250706T170000
DTSTAMP:20260421T144855
CREATED:20250604T190158Z
LAST-MODIFIED:20250611T124424Z
UID:10000013-1751803200-1751821200@sommerikviteseid.com
SUMMARY:Fellestur til Ågapet
DESCRIPTION:Legg sundagsturen 6. juli til Ågapet sammen med andre friskusar. Ta med egen niste og kaffe! Arrangør: LHL \n\n\n\nÅgapet i Kviteseid. Foto: Privat
URL:https://sommerikviteseid.com/arrangement/fellestur-til-agapet/
LOCATION:Kviteseid\, Kviteseidgata 18\, Kviteseid\, Telemark\, 3850\, Norway
ATTACH;FMTTYPE=image/png:https://sommerikviteseid.com/wp-content/uploads/2025/06/LHL-scaled.png
END:VEVENT
END:VCALENDAR